BEGIN:VCALENDAR
VERSION:2.0
PRODID:-//wp-events-plugin.com//7.2.3.1//EN
TZID:America/Detroit
X-WR-TIMEZONE:America/Detroit
BEGIN:VEVENT
UID:53@dementiaminds.org
DTSTART;TZID=America/Detroit:20260428T120000
DTEND;TZID=America/Detroit:20260428T130000
DTSTAMP:20260413T160403Z
URL:https://dementiaminds.org/events/april-meet-and-greet/
SUMMARY:April Meet and Greet
DESCRIPTION:Are you curious about whether joining a Dementia Minds group is
  the right fit for you?\n\nStart by clicking on “Join a Group” on our 
 website to learn more\, and please fill out an application there.\n\nThen\
 , register here to join us at at this upcoming "Meet and Greet."\n\nNote: 
 this meeting is open to persons living with dementia or mild cognitive imp
 airment (MCI) only. If you are a care partner or a professional\, please j
 oin us at a Friends and Family session instead.
ATTACH;FMTTYPE=image/jpeg:https://dementiaminds.org/wp-content/uploads/202
 6/04/Meet-and-Greet-Website-Image.png
CATEGORIES:Meet and Greets
LOCATION:https://dementiaminds.org/join-a-group/
END:VEVENT
BEGIN:VTIMEZONE
TZID:America/Detroit
X-LIC-LOCATION:America/Detroit
BEGIN:DAYLIGHT
DTSTART:20260308T030000
TZOFFSETFROM:-0500
TZOFFSETTO:-0400
TZNAME:EDT
END:DAYLIGHT
END:VTIMEZONE
END:VCALENDAR