BEGIN:VCALENDAR
VERSION:2.0
PRODID:-//wp-events-plugin.com//7.2.3.1//EN
TZID:America/Detroit
X-WR-TIMEZONE:America/Detroit
BEGIN:VEVENT
UID:37@dementiaminds.org
DTSTART;TZID=America/Detroit:20260623T100000
DTEND;TZID=America/Detroit:20260623T110000
DTSTAMP:20260331T181410Z
URL:https://dementiaminds.org/events/friends-and-family-small-group-with-c
 hris-and-joy-3/
SUMMARY:Friends and Family Small Group with Chris and Joy
DESCRIPTION:Join us for our Friends and Family Series\, which offers rich\,
  engaging discussion grounded in lived experience and gives friends\, fami
 ly members\, and others the opportunity to learn directly from us\, perso
 ns living with dementia. These are open meetings where all are welcome. 
 \n\nQuestions are always welcome\, and we\, persons living with dementia
 \, will be the ones to answer them with our lived experience\, offering a 
 unique insight into dementia. \n\nTimes are listed in multiple time zones
  for your convenience. For example: \n\n10:00 – 11:00 am EST \n\n9:00 
 – 10:00 am CT \n\n8:00 – 9:00 am MT \n\n7:00 – 8:00 am PT 
ATTACH;FMTTYPE=image/jpeg:https://dementiaminds.org/wp-content/uploads/202
 6/03/Green-Fresh-Mind-Psychology-Care-Logo.png
CATEGORIES:Friends &amp; Family Series
LOCATION:https://us02web.zoom.us/meeting/register/hnKWBhqBSHaz8gdp9vdzAA
END:VEVENT
BEGIN:VTIMEZONE
TZID:America/Detroit
X-LIC-LOCATION:America/Detroit
BEGIN:DAYLIGHT
DTSTART:20260308T030000
TZOFFSETFROM:-0500
TZOFFSETTO:-0400
TZNAME:EDT
END:DAYLIGHT
END:VTIMEZONE
END:VCALENDAR