BEGIN:VCALENDAR
VERSION:2.0
PRODID:-//wp-events-plugin.com//7.2.3.1//EN
TZID:America/Detroit
X-WR-TIMEZONE:America/Detroit
BEGIN:VEVENT
UID:38@dementiaminds.org
DTSTART;TZID=America/Detroit:20260428T120000
DTEND;TZID=America/Detroit:20260428T130000
DTSTAMP:20260413T155104Z
URL:https://dementiaminds.org/events/friends-and-family-small-group-with-r
 obert-and-john/
SUMMARY:April Friends and Family – Small Group with Robert and John
DESCRIPTION:Join us for our Friends &amp\; Family Series\, an interactive l
 earning opportunity grounded in lived experience.\nThese are open meetings
  where all are welcome. Everyone is invited to ask questions\, and we—pe
 ople living with dementia—will be the ones to answer them\, drawing on o
 ur lived experience to offer insight you won’t find elsewhere.\nIn this 
 session\, we will focus on changes in taste and smell\, part of a three-pa
 rt series exploring sensory changes and dementia:\n\n\n 	April 28 – Tast
 e &amp\; Smell\n 	May 26 – Touch\n 	June 23 – Hearing\n\nFriends\, fam
 ily members\, and others are invited to learn directly from us as we share
  what these changes can feel like and what helps in everyday life.\nPartic
 ipation is free\, but registration is required. Times are listed in multip
 le time zones for your convenience:\n12:00 – 1:00 pm ET 11:00 – 12:00
  pm CT 10:00 – 11:00 am MT 9:00 – 10:00 am PT 
ATTACH;FMTTYPE=image/jpeg:https://dementiaminds.org/wp-content/uploads/202
 6/01/Friends-and-Family-john-and-robert.jpg
CATEGORIES:Friends &amp; Family Series
LOCATION:https://us02web.zoom.us/meeting/register/TOir1tCFT3CgeuinQK9KHw
END:VEVENT
BEGIN:VTIMEZONE
TZID:America/Detroit
X-LIC-LOCATION:America/Detroit
BEGIN:DAYLIGHT
DTSTART:20260308T030000
TZOFFSETFROM:-0500
TZOFFSETTO:-0400
TZNAME:EDT
END:DAYLIGHT
END:VTIMEZONE
END:VCALENDAR