BEGIN:VCALENDAR
VERSION:2.0
PRODID:-//wp-events-plugin.com//7.2.3.1//EN
TZID:America/Detroit
X-WR-TIMEZONE:America/Detroit
BEGIN:VEVENT
UID:43@dementiaminds.org
DTSTART;TZID=America/Detroit:20260623T140000
DTEND;TZID=America/Detroit:20260623T150000
DTSTAMP:20260413T161342Z
URL:https://dementiaminds.org/events/friends-and-family-webinar-with-lisa-
 3/
SUMMARY:June Friends and Family – Webinar on Changes in Hearing & Dementi
 a
DESCRIPTION:Join us for our Friends &amp\; Family Series\, an interactive l
 earning opportunity grounded in lived experience.\nThese are open meetings
  where all are welcome. Everyone is invited to ask questions\, and we—pe
 ople living with dementia—will be the ones to answer them\, drawing on o
 ur lived experience to offer insight you won’t find elsewhere.\nIn this 
 session\, we will focus on changes in hearing associated with dementia\, p
 art of a three-part series exploring sensory changes:\n\n\n 	April 28 – 
 Taste &amp\; Smell\n 	May 26 – Touch\n 	June 23 – Hearing\n\nFriends\,
  family members\, and others are invited to learn directly from us as we s
 hare what these changes can feel like and what helps in everyday life.\nPa
 rticipation is free\, but registration is required. Times are listed in mu
 ltiple time zones for your convenience.\n2:00 – 3:00 pm ET \n\n1:00 –
  2:00 pm CT \n\n12:00 – 1:00 pm MT \n\n11:00 – 12:00 pm PT 
ATTACH;FMTTYPE=image/jpeg:https://dementiaminds.org/wp-content/uploads/202
 6/03/Green-Fresh-Mind-Psychology-Care-Logo-1.png
CATEGORIES:Friends &amp; Family Series
LOCATION:https://us02web.zoom.us/webinar/register/WN_f267xYYVQGCnIQQ412Cg4w
END:VEVENT
BEGIN:VTIMEZONE
TZID:America/Detroit
X-LIC-LOCATION:America/Detroit
BEGIN:DAYLIGHT
DTSTART:20260308T030000
TZOFFSETFROM:-0500
TZOFFSETTO:-0400
TZNAME:EDT
END:DAYLIGHT
END:VTIMEZONE
END:VCALENDAR