BEGIN:VCALENDAR
VERSION:2.0
PRODID:-//wp-events-plugin.com//7.2.3.1//EN
TZID:America/Detroit
X-WR-TIMEZONE:America/Detroit
BEGIN:VEVENT
UID:46@dementiaminds.org
DTSTART;TZID=America/Detroit:20260512T100000
DTEND;TZID=America/Detroit:20260512T110000
DTSTAMP:20260413T155422Z
URL:https://dementiaminds.org/events/meeting-of-the-minds-session-b-with-c
 hris-and-joy-2/
SUMMARY:May Meeting of the Minds: Session B with Chris and Joy
DESCRIPTION:A monthly gathering exclusively for persons living with dementi
 a and mild cognitive impairment (MCI). This series is designed to create m
 eaningful connection and rich discussion. We will meet on the second Tuesd
 ay of each month\n\nSession A: with Joy and Chris\n\n10:00 - 11:00 am ET\n
 \n9:00 - 10:00 am CT\n\n8:00 - 9:00 am MT\n\n7:00 - 8:00 am PT
ATTACH;FMTTYPE=image/jpeg:https://dementiaminds.org/wp-content/uploads/202
 6/01/Meeting-of-the-Minds-logo-website-.jpg
CATEGORIES:Meeting of the Minds
LOCATION:https://us02web.zoom.us/meeting/register/3p-4U3FlQtKvGkslv3VC4Q
END:VEVENT
BEGIN:VTIMEZONE
TZID:America/Detroit
X-LIC-LOCATION:America/Detroit
BEGIN:DAYLIGHT
DTSTART:20260308T030000
TZOFFSETFROM:-0500
TZOFFSETTO:-0400
TZNAME:EDT
END:DAYLIGHT
END:VTIMEZONE
END:VCALENDAR