BEGIN:VCALENDAR
VERSION:2.0
PRODID:-//wp-events-plugin.com//7.2.3.1//EN
TZID:America/Detroit
X-WR-TIMEZONE:America/Detroit
BEGIN:VEVENT
UID:48@dementiaminds.org
DTSTART;TZID=America/Detroit:20260512T120000
DTEND;TZID=America/Detroit:20260512T130000
DTSTAMP:20260413T155452Z
URL:https://dementiaminds.org/events/meeting-of-the-minds-session-b-with-j
 ohn-and-robert/
SUMMARY:May Meeting of the Minds: Session B with John and Robert
DESCRIPTION:A monthly gathering exclusively for persons living with dementi
 a and mild cognitive impairment (MCI). This series is designed to create m
 eaningful connection and rich discussion. We will meet on the second Tuesd
 ay of each month\n\nSession C: with John and Robert\n\n12:00 - 1:00 pm ET\
 n\n11:00 - 12:00 pm CT\n\n10:00 - 11:00 am MT\n\n9:00 - 10:00 am PT
ATTACH;FMTTYPE=image/jpeg:https://dementiaminds.org/wp-content/uploads/202
 6/01/Meeting-of-the-Minds-logo-website-john-and-robert.jpg
CATEGORIES:Meeting of the Minds
LOCATION:https://us02web.zoom.us/meeting/register/UtYK1948RdKHDNZ6yGC5Xw
END:VEVENT
BEGIN:VTIMEZONE
TZID:America/Detroit
X-LIC-LOCATION:America/Detroit
BEGIN:DAYLIGHT
DTSTART:20260308T030000
TZOFFSETFROM:-0500
TZOFFSETTO:-0400
TZNAME:EDT
END:DAYLIGHT
END:VTIMEZONE
END:VCALENDAR