BEGIN:VCALENDAR
VERSION:2.0
PRODID:-//wp-events-plugin.com//7.2.3.1//EN
TZID:America/Detroit
X-WR-TIMEZONE:America/Detroit
BEGIN:VEVENT
UID:50@dementiaminds.org
DTSTART;TZID=America/Detroit:20260609T140000
DTEND;TZID=America/Detroit:20260609T150000
DTSTAMP:20260413T161106Z
URL:https://dementiaminds.org/events/meeting-of-the-minds-session-b-with-l
 isa/
SUMMARY:June Meeting of the Minds: Session C with Lisa
DESCRIPTION:A monthly gathering exclusively for persons living with dementi
 a and mild cognitive impairment (MCI). This series is designed to create m
 eaningful connection and rich discussion. We will meet on the second Tuesd
 ay of each month.\n\n2:00 - 3:00 pm ET\n\n1:00 - 2:00 pm CT\n\n12:00 - 1:0
 0 pm MT\n\n11:00 - 12:00 pm PT
ATTACH;FMTTYPE=image/jpeg:https://dementiaminds.org/wp-content/uploads/202
 6/03/Meeting-with-Lisa.png
CATEGORIES:Meeting of the Minds
LOCATION:https://us02web.zoom.us/meeting/register/uzIJOw4eTMGuXKSedmMl1g
END:VEVENT
BEGIN:VTIMEZONE
TZID:America/Detroit
X-LIC-LOCATION:America/Detroit
BEGIN:DAYLIGHT
DTSTART:20260308T030000
TZOFFSETFROM:-0500
TZOFFSETTO:-0400
TZNAME:EDT
END:DAYLIGHT
END:VTIMEZONE
END:VCALENDAR