BEGIN:VCALENDAR
VERSION:2.0
PRODID:-//wp-events-plugin.com//7.2.3.1//EN
TZID:America/Detroit
X-WR-TIMEZONE:America/Detroit
BEGIN:VEVENT
UID:54@dementiaminds.org
DTSTART;TZID=America/Detroit:20260430T170000
DTEND;TZID=America/Detroit:20260430T180000
DTSTAMP:20260420T160750Z
URL:https://dementiaminds.org/events/unmasked-out-a-webinar-with-the-siste
 rs-of-the-dragonfly/
SUMMARY:Unmasked & Out: A Webinar with the Sisters of the Dragonfly
DESCRIPTION:What does it mean to come out unmasked and unafraid while livin
 g with dementia? Sisters of the Dragonfly\, a group of women from the Nati
 onal Council of Dementia Minds\, share personal reflections on the masks t
 hey wear as women living with dementia.\n\nIn this webinar\, you will expe
 rience:\n\n-Honest reflections on releasing fear and stepping into authent
 icity\n-Stories of moving from hiding in plain sight to embracing identity
 \n-A direct window into life with dementia\, shared through lived experien
 ce\n-An opportunity to ask questions and connect directly with the panelis
 ts. Leave inspired to help create a world where no one has to hide and eve
 ry person living with dementia can live out loud.\n\nDate: Thursday\, Apri
 l 30\n\nTime: 5:00 pm - 6:00 pm ET\n4:00 pm - 5:00 pm CT\n\n3:00 pm - 4:00
  pm MT\n\n2:00 pm - 3:00 pm PT\n\n&nbsp\;\n\nLocation: This free webinar w
 ill be held on Zoom
ATTACH;FMTTYPE=image/jpeg:https://dementiaminds.org/wp-content/uploads/202
 6/04/Unmasked-and-Out-Website-image.png
CATEGORIES:Webinars
LOCATION:https://us02web.zoom.us/webinar/register/WN_DPdNjicvTEKTFP7h7Eg_vA
 ?utm_source=hs_email&utm_medium=email&_hsenc=p2ANqtz-_l-Jvr3F8FFqWTzXlV4-D
 nQ4USeoYVqnbd4c8cIJQS3QQCX016mTvcTo5f4pS3Cg6NnbSQ#/
END:VEVENT
BEGIN:VTIMEZONE
TZID:America/Detroit
X-LIC-LOCATION:America/Detroit
BEGIN:DAYLIGHT
DTSTART:20260308T030000
TZOFFSETFROM:-0500
TZOFFSETTO:-0400
TZNAME:EDT
END:DAYLIGHT
END:VTIMEZONE
END:VCALENDAR